Package: CellScore Version: 1.17.0 Command: /Library/Frameworks/R.framework/Resources/bin/R CMD INSTALL CellScore StartedAt: 2022-07-10 15:26:43 -0400 (Sun, 10 Jul 2022) EndedAt: 2022-07-10 15:26:50 -0400 (Sun, 10 Jul 2022) EllapsedTime: 7.0 seconds RetCode: 0 Status: OK