Package: CTDquerier Version: 2.6.0 Command: chmod a+r CTDquerier -R && F:\biocbuild\bbs-3.16-bioc\R\bin\R.exe CMD build --keep-empty-dirs --no-resave-data CTDquerier StartedAt: 2023-04-10 18:01:23 -0400 (Mon, 10 Apr 2023) EndedAt: 2023-04-10 18:01:26 -0400 (Mon, 10 Apr 2023) EllapsedTime: 3.5 seconds RetCode: 0 Status: OK PackageFile: CTDquerier_2.6.0.tar.gz PackageFileSize: 2.803 MiB