Package: CTDquerier Version: 2.6.0 Command: rm -rf CTDquerier.buildbin-libdir && mkdir CTDquerier.buildbin-libdir && F:\biocbuild\bbs-3.16-bioc\R\bin\R.exe CMD INSTALL --build --library=CTDquerier.buildbin-libdir CTDquerier_2.6.0.tar.gz StartedAt: 2023-04-11 07:50:30 -0400 (Tue, 11 Apr 2023) EndedAt: 2023-04-11 07:50:47 -0400 (Tue, 11 Apr 2023) EllapsedTime: 17.5 seconds RetCode: 0 Status: OK PackageFile: CTDquerier_2.6.0.zip PackageFileSize: 2.705 MiB