Package: CTDquerier Version: 2.6.0 Command: /Library/Frameworks/R.framework/Resources/bin/R CMD build --keep-empty-dirs --no-resave-data CTDquerier StartedAt: 2023-04-10 16:17:10 -0400 (Mon, 10 Apr 2023) EndedAt: 2023-04-10 16:17:13 -0400 (Mon, 10 Apr 2023) EllapsedTime: 2.3 seconds RetCode: 0 Status: OK PackageFile: CTDquerier_2.6.0.tar.gz PackageFileSize: 2.803 MiB