Package: CTDquerier Version: 2.6.0 Command: rm -rf CTDquerier.buildbin-libdir && mkdir CTDquerier.buildbin-libdir && /Users/biocbuild/BBS/utils/build-universal.sh CTDquerier_2.6.0.tar.gz /Library/Frameworks/R.framework/Resources/bin/R CTDquerier.buildbin-libdir StartedAt: 2023-04-10 23:39:10 -0400 (Mon, 10 Apr 2023) EndedAt: 2023-04-10 23:39:21 -0400 (Mon, 10 Apr 2023) EllapsedTime: 11.3 seconds RetCode: 0 Status: OK PackageFile: CTDquerier_2.6.0.tgz PackageFileSize: 2.702 MiB