Package: CSSQ Version: 1.10.0 Command: /Library/Frameworks/R.framework/Resources/bin/R CMD check --install=check:CSSQ.install-out.txt --library=/Library/Frameworks/R.framework/Resources/library --no-vignettes --timings CSSQ_1.10.0.tar.gz StartedAt: 2023-04-10 19:41:05 -0400 (Mon, 10 Apr 2023) EndedAt: 2023-04-10 19:44:48 -0400 (Mon, 10 Apr 2023) EllapsedTime: 223.0 seconds RetCode: 0 Status: OK CheckDir: CSSQ.Rcheck Warnings: 0