############################################################################## ############################################################################## ### ### Running command: ### ### /Library/Frameworks/R.framework/Resources/bin/R CMD build --keep-empty-dirs --no-resave-data CSSQ ### ############################################################################## ############################################################################## * checking for file ‘CSSQ/DESCRIPTION’ ... OK * preparing ‘CSSQ’: * checking DESCRIPTION meta-information ... OK * installing the package to build vignettes ----------------------------------- ERROR: dependencies ‘rtracklayer’, ‘GenomicFeatures’ are not available for package ‘CSSQ’ * removing ‘/private/tmp/RtmpWqROyU/Rinstb90440312d26/CSSQ’ ----------------------------------- ERROR: package installation failed