Package: CRImage Version: 1.46.0 Command: rm -rf CRImage.buildbin-libdir && mkdir CRImage.buildbin-libdir && F:\biocbuild\bbs-3.16-bioc\R\bin\R.exe CMD INSTALL --build --library=CRImage.buildbin-libdir CRImage_1.46.0.tar.gz StartedAt: 2023-04-11 07:49:57 -0400 (Tue, 11 Apr 2023) EndedAt: 2023-04-11 07:50:18 -0400 (Tue, 11 Apr 2023) EllapsedTime: 20.5 seconds RetCode: 0 Status: OK PackageFile: CRImage_1.46.0.zip PackageFileSize: 6.459 MiB