Package: CRISPRseek Version: 1.38.0 Command: chmod a+r CRISPRseek -R && F:\biocbuild\bbs-3.16-bioc\R\bin\R.exe CMD build --keep-empty-dirs --no-resave-data CRISPRseek StartedAt: 2023-04-10 17:59:37 -0400 (Mon, 10 Apr 2023) EndedAt: 2023-04-10 18:02:50 -0400 (Mon, 10 Apr 2023) EllapsedTime: 193.5 seconds RetCode: 0 Status: OK PackageFile: CRISPRseek_1.38.0.tar.gz PackageFileSize: 10.74 MiB