Package: CRISPRseek Version: 1.38.0 Command: /home/biocbuild/bbs-3.16-bioc/R/bin/R CMD check --install=check:CRISPRseek.install-out.txt --library=/home/biocbuild/bbs-3.16-bioc/R/site-library --timings CRISPRseek_1.38.0.tar.gz StartedAt: 2023-04-10 20:01:42 -0400 (Mon, 10 Apr 2023) EndedAt: 2023-04-10 20:34:11 -0400 (Mon, 10 Apr 2023) EllapsedTime: 1949.6 seconds RetCode: 0 Status: OK CheckDir: CRISPRseek.Rcheck Warnings: 0