Package: COTAN Version: 1.2.0 Command: F:\biocbuild\bbs-3.16-bioc\R\bin\R.exe CMD INSTALL COTAN StartedAt: 2023-04-10 15:51:52 -0400 (Mon, 10 Apr 2023) EndedAt: 2023-04-10 15:52:20 -0400 (Mon, 10 Apr 2023) EllapsedTime: 28.1 seconds RetCode: 0 Status: OK