Package: COTAN Version: 1.2.0 Command: F:\biocbuild\bbs-3.16-bioc\R\bin\R.exe CMD check --no-multiarch --install=check:COTAN.install-out.txt --library=F:\biocbuild\bbs-3.16-bioc\R\library --no-vignettes --timings COTAN_1.2.0.tar.gz StartedAt: 2023-04-11 00:23:36 -0400 (Tue, 11 Apr 2023) EndedAt: 2023-04-11 00:26:55 -0400 (Tue, 11 Apr 2023) EllapsedTime: 199.4 seconds RetCode: 0 Status: OK CheckDir: COTAN.Rcheck Warnings: 0