Package: COTAN Version: 1.2.0 Command: chmod a+r COTAN -R && F:\biocbuild\bbs-3.16-bioc\R\bin\R.exe --arch x64 CMD build --keep-empty-dirs --no-resave-data COTAN StartedAt: 2023-04-10 17:58:42 -0400 (Mon, 10 Apr 2023) EndedAt: 2023-04-10 17:59:39 -0400 (Mon, 10 Apr 2023) EllapsedTime: 57.0 seconds RetCode: 0 Status: OK PackageFile: COTAN_1.2.0.tar.gz PackageFileSize: 3.149 MiB