Package: COTAN Version: 1.2.0 Command: /Library/Frameworks/R.framework/Resources/bin/R CMD build --keep-empty-dirs --no-resave-data COTAN StartedAt: 2023-04-10 16:15:33 -0400 (Mon, 10 Apr 2023) EndedAt: 2023-04-10 16:16:15 -0400 (Mon, 10 Apr 2023) EllapsedTime: 41.9 seconds RetCode: 0 Status: OK PackageFile: COTAN_1.2.0.tar.gz PackageFileSize: 3.934 MiB