Package: COTAN Version: 1.1.0 Command: /Library/Frameworks/R.framework/Resources/bin/R CMD INSTALL COTAN StartedAt: 2022-07-10 16:46:36 -0400 (Sun, 10 Jul 2022) EndedAt: 2022-07-10 16:47:17 -0400 (Sun, 10 Jul 2022) EllapsedTime: 41.7 seconds RetCode: 0 Status: OK