Package: CODEX Version: 1.30.0 Command: rm -rf CODEX.buildbin-libdir && mkdir CODEX.buildbin-libdir && F:\biocbuild\bbs-3.16-bioc\R\bin\R.exe CMD INSTALL --build --library=CODEX.buildbin-libdir CODEX_1.30.0.tar.gz StartedAt: 2023-04-11 07:46:52 -0400 (Tue, 11 Apr 2023) EndedAt: 2023-04-11 07:47:47 -0400 (Tue, 11 Apr 2023) EllapsedTime: 55.0 seconds RetCode: 0 Status: OK PackageFile: CODEX_1.30.0.zip PackageFileSize: 1.297 MiB