Package: CODEX Version: 1.30.0 Command: /home/biocbuild/bbs-3.16-bioc/R/bin/R CMD INSTALL CODEX StartedAt: 2023-04-10 15:44:40 -0400 (Mon, 10 Apr 2023) EndedAt: 2023-04-10 15:45:23 -0400 (Mon, 10 Apr 2023) EllapsedTime: 43.1 seconds RetCode: 0 Status: OK