Package: CODEX Version: 1.30.0 Command: /Library/Frameworks/R.framework/Resources/bin/R CMD build --keep-empty-dirs --no-resave-data CODEX StartedAt: 2023-04-10 16:11:47 -0400 (Mon, 10 Apr 2023) EndedAt: 2023-04-10 16:13:20 -0400 (Mon, 10 Apr 2023) EllapsedTime: 92.3 seconds RetCode: 0 Status: OK PackageFile: CODEX_1.30.0.tar.gz PackageFileSize: 912.8 KiB