Package: CODEX Version: 1.30.0 Command: rm -rf CODEX.buildbin-libdir && mkdir CODEX.buildbin-libdir && /Users/biocbuild/BBS/utils/build-universal.sh CODEX_1.30.0.tar.gz /Library/Frameworks/R.framework/Resources/bin/R CODEX.buildbin-libdir StartedAt: 2023-04-10 23:37:53 -0400 (Mon, 10 Apr 2023) EndedAt: 2023-04-10 23:38:30 -0400 (Mon, 10 Apr 2023) EllapsedTime: 36.6 seconds RetCode: 0 Status: OK PackageFile: CODEX_1.30.0.tgz PackageFileSize: 1.38 MiB