Package: CMA Version: 1.56.0 Command: /home/biocbuild/bbs-3.16-bioc/R/bin/R CMD build --keep-empty-dirs --no-resave-data CMA StartedAt: 2023-04-10 16:24:05 -0400 (Mon, 10 Apr 2023) EndedAt: 2023-04-10 16:24:31 -0400 (Mon, 10 Apr 2023) EllapsedTime: 25.6 seconds RetCode: 0 Status: OK PackageFile: CMA_1.56.0.tar.gz PackageFileSize: 1.022 MiB