Package: CINdex Version: 1.26.0 Command: rm -rf CINdex.buildbin-libdir && mkdir CINdex.buildbin-libdir && /Users/biocbuild/BBS/utils/build-universal.sh CINdex_1.26.0.tar.gz /Library/Frameworks/R.framework/Resources/bin/R CINdex.buildbin-libdir StartedAt: 2023-04-10 23:37:01 -0400 (Mon, 10 Apr 2023) EndedAt: 2023-04-10 23:37:35 -0400 (Mon, 10 Apr 2023) EllapsedTime: 34.4 seconds RetCode: 0 Status: OK PackageFile: CINdex_1.26.0.tgz PackageFileSize: 17.96 MiB