Package: CGHcall Version: 2.59.0 Command: /Library/Frameworks/R.framework/Resources/bin/R CMD INSTALL CGHcall StartedAt: 2022-07-10 15:48:22 -0400 (Sun, 10 Jul 2022) EndedAt: 2022-07-10 15:48:32 -0400 (Sun, 10 Jul 2022) EllapsedTime: 9.7 seconds RetCode: 0 Status: OK