Package: CAGEfightR Version: 1.18.0 Command: /home/biocbuild/bbs-3.16-bioc/R/bin/R CMD check --install=check:CAGEfightR.install-out.txt --library=/home/biocbuild/bbs-3.16-bioc/R/site-library --timings CAGEfightR_1.18.0.tar.gz StartedAt: 2023-04-10 19:28:24 -0400 (Mon, 10 Apr 2023) EndedAt: 2023-04-10 19:36:24 -0400 (Mon, 10 Apr 2023) EllapsedTime: 480.0 seconds RetCode: 0 Status: OK CheckDir: CAGEfightR.Rcheck Warnings: 0