Package: CAGEfightR Version: 1.18.0 Command: /Library/Frameworks/R.framework/Resources/bin/R CMD build --keep-empty-dirs --no-resave-data CAGEfightR StartedAt: 2023-04-10 16:01:24 -0400 (Mon, 10 Apr 2023) EndedAt: 2023-04-10 16:04:29 -0400 (Mon, 10 Apr 2023) EllapsedTime: 184.4 seconds RetCode: 0 Status: OK PackageFile: CAGEfightR_1.18.0.tar.gz PackageFileSize: 1.668 MiB