Package: CAGEfightR Version: 1.18.0 Command: rm -rf CAGEfightR.buildbin-libdir && mkdir CAGEfightR.buildbin-libdir && /Users/biocbuild/BBS/utils/build-universal.sh CAGEfightR_1.18.0.tar.gz /Library/Frameworks/R.framework/Resources/bin/R CAGEfightR.buildbin-libdir StartedAt: 2023-04-10 23:35:13 -0400 (Mon, 10 Apr 2023) EndedAt: 2023-04-10 23:36:13 -0400 (Mon, 10 Apr 2023) EllapsedTime: 60.0 seconds RetCode: 0 Status: OK PackageFile: CAGEfightR_1.18.0.tgz PackageFileSize: 2.679 MiB