Package: BufferedMatrix Version: 1.62.0 Command: chmod a+r BufferedMatrix -R && F:\biocbuild\bbs-3.16-bioc\R\bin\R.exe CMD build --keep-empty-dirs --no-resave-data BufferedMatrix StartedAt: 2023-04-10 17:30:32 -0400 (Mon, 10 Apr 2023) EndedAt: 2023-04-10 17:30:55 -0400 (Mon, 10 Apr 2023) EllapsedTime: 23.3 seconds RetCode: 0 Status: OK PackageFile: BufferedMatrix_1.62.0.tar.gz PackageFileSize: 489.5 KiB