Package: BufferedMatrix Version: 1.62.0 Command: /home/biocbuild/bbs-3.16-bioc/R/bin/R CMD check --install=check:BufferedMatrix.install-out.txt --library=/home/biocbuild/bbs-3.16-bioc/R/site-library --timings BufferedMatrix_1.62.0.tar.gz StartedAt: 2023-04-10 19:26:45 -0400 (Mon, 10 Apr 2023) EndedAt: 2023-04-10 19:27:09 -0400 (Mon, 10 Apr 2023) EllapsedTime: 24.3 seconds RetCode: 0 Status: OK CheckDir: BufferedMatrix.Rcheck Warnings: 0