Package: BufferedMatrix Version: 1.62.0 Command: /Library/Frameworks/R.framework/Resources/bin/R CMD check --install=check:BufferedMatrix.install-out.txt --library=/Library/Frameworks/R.framework/Resources/library --no-vignettes --timings BufferedMatrix_1.62.0.tar.gz StartedAt: 2023-04-10 19:10:37 -0400 (Mon, 10 Apr 2023) EndedAt: 2023-04-10 19:12:09 -0400 (Mon, 10 Apr 2023) EllapsedTime: 92.1 seconds RetCode: 0 Status: WARNINGS CheckDir: BufferedMatrix.Rcheck Warnings: 1