Package: BufferedMatrix Version: 1.62.0 Command: /Library/Frameworks/R.framework/Resources/bin/R CMD build --keep-empty-dirs --no-resave-data BufferedMatrix StartedAt: 2023-04-10 16:00:49 -0400 (Mon, 10 Apr 2023) EndedAt: 2023-04-10 16:01:03 -0400 (Mon, 10 Apr 2023) EllapsedTime: 13.6 seconds RetCode: 0 Status: OK PackageFile: BufferedMatrix_1.62.0.tar.gz PackageFileSize: 630 KiB