Package: BufferedMatrix Version: 1.61.0 Command: /Library/Frameworks/R.framework/Resources/bin/R CMD build --keep-empty-dirs --no-resave-data BufferedMatrix StartedAt: 2022-07-11 04:21:23 -0400 (Mon, 11 Jul 2022) EndedAt: 2022-07-11 04:23:41 -0400 (Mon, 11 Jul 2022) EllapsedTime: 138.3 seconds RetCode: 0 Status: OK PackageFile: BufferedMatrix_1.61.0.tar.gz PackageFileSize: 628.8 KiB