Package: BloodGen3Module Version: 1.5.0 Command: /Library/Frameworks/R.framework/Resources/bin/R CMD build --keep-empty-dirs --no-resave-data BloodGen3Module StartedAt: 2022-07-11 01:37:42 -0400 (Mon, 11 Jul 2022) EndedAt: 2022-07-11 02:17:42 -0400 (Mon, 11 Jul 2022) EllapsedTime: 2400.8 seconds RetCode: None Status: TIMEOUT PackageFile: None PackageFileSize: NA