Package: BitSeq Version: 1.42.0 Command: F:\biocbuild\bbs-3.16-bioc\R\bin\R.exe CMD INSTALL BitSeq StartedAt: 2023-04-10 16:11:48 -0400 (Mon, 10 Apr 2023) EndedAt: 2023-04-10 16:12:12 -0400 (Mon, 10 Apr 2023) EllapsedTime: 23.3 seconds RetCode: 1 Status: ERROR