Package: BiocPkgTools Version: 1.15.4 Command: rm -rf BiocPkgTools.buildbin-libdir && mkdir BiocPkgTools.buildbin-libdir && /Users/biocbuild/BBS/utils/build-universal.sh BiocPkgTools_1.15.4.tar.gz /Library/Frameworks/R.framework/Resources/bin/R BiocPkgTools.buildbin-libdir StartedAt: 2022-07-07 07:34:15 -0400 (Thu, 07 Jul 2022) EndedAt: 2022-07-07 07:34:39 -0400 (Thu, 07 Jul 2022) EllapsedTime: 23.3 seconds RetCode: 0 Status: OK PackageFile: BiocPkgTools_1.15.4.tgz PackageFileSize: 1.883 MiB