Package: BiocParallel Version: 1.32.6 Command: F:\biocbuild\bbs-3.16-bioc\R\bin\R.exe CMD check --no-multiarch --install=check:BiocParallel.install-out.txt --library=F:\biocbuild\bbs-3.16-bioc\R\library --no-vignettes --timings BiocParallel_1.32.6.tar.gz StartedAt: 2023-04-10 23:17:41 -0400 (Mon, 10 Apr 2023) EndedAt: 2023-04-10 23:26:30 -0400 (Mon, 10 Apr 2023) EllapsedTime: 528.8 seconds RetCode: 0 Status: OK CheckDir: BiocParallel.Rcheck Warnings: 0