Package: BiocIO Version: 1.8.0 Command: rm -rf BiocIO.buildbin-libdir && mkdir BiocIO.buildbin-libdir && F:\biocbuild\bbs-3.16-bioc\R\bin\R.exe CMD INSTALL --build --library=BiocIO.buildbin-libdir BiocIO_1.8.0.tar.gz StartedAt: 2023-04-11 07:37:23 -0400 (Tue, 11 Apr 2023) EndedAt: 2023-04-11 07:37:50 -0400 (Tue, 11 Apr 2023) EllapsedTime: 27.2 seconds RetCode: 0 Status: OK PackageFile: BiocIO_1.8.0.zip PackageFileSize: 353.6 KiB