Package: BioNAR Version: 1.0.0 Command: F:\biocbuild\bbs-3.16-bioc\R\bin\R.exe CMD check --no-multiarch --install=check:BioNAR.install-out.txt --library=F:\biocbuild\bbs-3.16-bioc\R\library --no-vignettes --timings BioNAR_1.0.0.tar.gz StartedAt: 2023-04-10 23:23:02 -0400 (Mon, 10 Apr 2023) EndedAt: 2023-04-10 23:31:28 -0400 (Mon, 10 Apr 2023) EllapsedTime: 505.4 seconds RetCode: 0 Status: OK CheckDir: BioNAR.Rcheck Warnings: 0