Package: BioNAR Version: 1.0.0 Command: rm -rf BioNAR.buildbin-libdir && mkdir BioNAR.buildbin-libdir && F:\biocbuild\bbs-3.16-bioc\R\bin\R.exe CMD INSTALL --build --library=BioNAR.buildbin-libdir BioNAR_1.0.0.tar.gz StartedAt: 2023-04-11 07:38:20 -0400 (Tue, 11 Apr 2023) EndedAt: 2023-04-11 07:39:16 -0400 (Tue, 11 Apr 2023) EllapsedTime: 56.8 seconds RetCode: 0 Status: OK PackageFile: BioNAR_1.0.0.zip PackageFileSize: 2.031 MiB