Package: BioNAR Version: 1.0.0 Command: /Library/Frameworks/R.framework/Resources/bin/R CMD check --install=check:BioNAR.install-out.txt --library=/Library/Frameworks/R.framework/Resources/library --no-vignettes --timings BioNAR_1.0.0.tar.gz StartedAt: 2023-04-10 19:04:35 -0400 (Mon, 10 Apr 2023) EndedAt: 2023-04-10 19:11:07 -0400 (Mon, 10 Apr 2023) EllapsedTime: 392.7 seconds RetCode: 0 Status: OK CheckDir: BioNAR.Rcheck Warnings: 0