Package: BioNAR Version: 1.0.0 Command: rm -rf BioNAR.buildbin-libdir && mkdir BioNAR.buildbin-libdir && /Users/biocbuild/BBS/utils/build-universal.sh BioNAR_1.0.0.tar.gz /Library/Frameworks/R.framework/Resources/bin/R BioNAR.buildbin-libdir StartedAt: 2023-04-10 23:34:22 -0400 (Mon, 10 Apr 2023) EndedAt: 2023-04-10 23:35:20 -0400 (Mon, 10 Apr 2023) EllapsedTime: 57.9 seconds RetCode: 0 Status: OK PackageFile: BioNAR_1.0.0.tgz PackageFileSize: 2.323 MiB