Package: BioMM Version: 1.14.0 Command: rm -rf BioMM.buildbin-libdir && mkdir BioMM.buildbin-libdir && /Users/biocbuild/BBS/utils/build-universal.sh BioMM_1.14.0.tar.gz /Library/Frameworks/R.framework/Resources/bin/R BioMM.buildbin-libdir StartedAt: 2023-02-09 00:00:51 -0500 (Thu, 09 Feb 2023) EndedAt: 2023-02-09 00:01:07 -0500 (Thu, 09 Feb 2023) EllapsedTime: 16.1 seconds RetCode: 0 Status: OK PackageFile: BioMM_1.14.0.tgz PackageFileSize: 2.928 MiB