Package: BioCor Version: 1.21.0 Command: /Library/Frameworks/R.framework/Resources/bin/R CMD INSTALL BioCor StartedAt: 2022-07-10 18:07:47 -0400 (Sun, 10 Jul 2022) EndedAt: 2022-07-10 18:08:50 -0400 (Sun, 10 Jul 2022) EllapsedTime: 63.0 seconds RetCode: 0 Status: OK