Package: BicARE Version: 1.56.0 Command: /Library/Frameworks/R.framework/Resources/bin/R CMD build --keep-empty-dirs --no-resave-data BicARE StartedAt: 2023-04-10 15:54:25 -0400 (Mon, 10 Apr 2023) EndedAt: 2023-04-10 15:56:52 -0400 (Mon, 10 Apr 2023) EllapsedTime: 146.9 seconds RetCode: 0 Status: OK PackageFile: BicARE_1.56.0.tar.gz PackageFileSize: 459.5 KiB