Package: BiFET Version: 1.18.0 Command: F:\biocbuild\bbs-3.16-bioc\R\bin\R.exe CMD check --no-multiarch --install=check:BiFET.install-out.txt --library=F:\biocbuild\bbs-3.16-bioc\R\library --no-vignettes --timings BiFET_1.18.0.tar.gz StartedAt: 2023-04-10 23:12:00 -0400 (Mon, 10 Apr 2023) EndedAt: 2023-04-10 23:16:31 -0400 (Mon, 10 Apr 2023) EllapsedTime: 270.9 seconds RetCode: 0 Status: OK CheckDir: BiFET.Rcheck Warnings: 0