Package: BiFET Version: 1.18.0 Command: rm -rf BiFET.buildbin-libdir && mkdir BiFET.buildbin-libdir && F:\biocbuild\bbs-3.16-bioc\R\bin\R.exe CMD INSTALL --build --library=BiFET.buildbin-libdir BiFET_1.18.0.tar.gz StartedAt: 2023-04-11 07:36:39 -0400 (Tue, 11 Apr 2023) EndedAt: 2023-04-11 07:36:54 -0400 (Tue, 11 Apr 2023) EllapsedTime: 15.0 seconds RetCode: 0 Status: OK PackageFile: BiFET_1.18.0.zip PackageFileSize: 663.3 KiB