Package: BiFET Version: 1.18.0 Command: /home/biocbuild/bbs-3.16-bioc/R/bin/R CMD INSTALL BiFET StartedAt: 2023-04-10 15:12:59 -0400 (Mon, 10 Apr 2023) EndedAt: 2023-04-10 15:13:09 -0400 (Mon, 10 Apr 2023) EllapsedTime: 9.8 seconds RetCode: 0 Status: OK