Package: BiFET Version: 1.18.0 Command: /home/biocbuild/bbs-3.16-bioc/R/bin/R CMD build --keep-empty-dirs --no-resave-data BiFET StartedAt: 2023-04-10 16:09:42 -0400 (Mon, 10 Apr 2023) EndedAt: 2023-04-10 16:10:41 -0400 (Mon, 10 Apr 2023) EllapsedTime: 59.0 seconds RetCode: 0 Status: OK PackageFile: BiFET_1.18.0.tar.gz PackageFileSize: 644.1 KiB