Package: BaseSpaceR Version: 1.42.0 Command: F:\biocbuild\bbs-3.16-bioc\R\bin\R.exe CMD INSTALL BaseSpaceR StartedAt: 2023-04-10 15:30:40 -0400 (Mon, 10 Apr 2023) EndedAt: 2023-04-10 15:31:01 -0400 (Mon, 10 Apr 2023) EllapsedTime: 21.0 seconds RetCode: 0 Status: OK