Package: BRGenomics Version: 1.10.0 Command: /Library/Frameworks/R.framework/Resources/bin/R CMD build --keep-empty-dirs --no-resave-data BRGenomics StartedAt: 2023-04-10 16:00:30 -0400 (Mon, 10 Apr 2023) EndedAt: 2023-04-10 16:01:49 -0400 (Mon, 10 Apr 2023) EllapsedTime: 79.1 seconds RetCode: 0 Status: OK PackageFile: BRGenomics_1.10.0.tar.gz PackageFileSize: 3.725 MiB