Package: BPRMeth Version: 1.24.2 Command: rm -rf BPRMeth.buildbin-libdir && mkdir BPRMeth.buildbin-libdir && /Users/biocbuild/BBS/utils/build-universal.sh BPRMeth_1.24.2.tar.gz /Library/Frameworks/R.framework/Resources/bin/R BPRMeth.buildbin-libdir StartedAt: 2023-04-10 23:34:42 -0400 (Mon, 10 Apr 2023) EndedAt: 2023-04-10 23:35:22 -0400 (Mon, 10 Apr 2023) EllapsedTime: 39.7 seconds RetCode: 0 Status: OK PackageFile: BPRMeth_1.24.2.tgz PackageFileSize: 3.585 MiB