Package: BPRMeth Version: 1.23.0 Command: /Library/Frameworks/R.framework/Resources/bin/R CMD INSTALL BPRMeth StartedAt: 2022-07-10 19:32:46 -0400 (Sun, 10 Jul 2022) EndedAt: 2022-07-10 19:33:35 -0400 (Sun, 10 Jul 2022) EllapsedTime: 48.8 seconds RetCode: 0 Status: OK